BEGIN:VCALENDAR
VERSION:2.0
PRODID:-//Life Sciences PA - ECPv6.15.14//NONSGML v1.0//EN
CALSCALE:GREGORIAN
METHOD:PUBLISH
X-WR-CALNAME:Life Sciences PA
X-ORIGINAL-URL:https://lifesciencespa.org
X-WR-CALDESC:Events for Life Sciences PA
REFRESH-INTERVAL;VALUE=DURATION:PT1H
X-Robots-Tag:noindex
X-PUBLISHED-TTL:PT1H
BEGIN:VTIMEZONE
TZID:America/New_York
BEGIN:DAYLIGHT
TZOFFSETFROM:-0500
TZOFFSETTO:-0400
TZNAME:EDT
DTSTART:20250309T070000
END:DAYLIGHT
BEGIN:STANDARD
TZOFFSETFROM:-0400
TZOFFSETTO:-0500
TZNAME:EST
DTSTART:20251102T060000
END:STANDARD
BEGIN:DAYLIGHT
TZOFFSETFROM:-0500
TZOFFSETTO:-0400
TZNAME:EDT
DTSTART:20260308T070000
END:DAYLIGHT
BEGIN:STANDARD
TZOFFSETFROM:-0400
TZOFFSETTO:-0500
TZNAME:EST
DTSTART:20261101T060000
END:STANDARD
BEGIN:DAYLIGHT
TZOFFSETFROM:-0500
TZOFFSETTO:-0400
TZNAME:EDT
DTSTART:20270314T070000
END:DAYLIGHT
BEGIN:STANDARD
TZOFFSETFROM:-0400
TZOFFSETTO:-0500
TZNAME:EST
DTSTART:20271107T060000
END:STANDARD
END:VTIMEZONE
BEGIN:VEVENT
DTSTART;TZID=America/New_York:20260514T090000
DTEND;TZID=America/New_York:20260514T180000
DTSTAMP:20260422T064223
CREATED:20260413T201319Z
LAST-MODIFIED:20260413T201330Z
UID:319665-1778749200-1778781600@lifesciencespa.org
SUMMARY:Penn State's Bio-Inspired Innovation Exchange: From Nature to Market
DESCRIPTION:Join Penn State faculty\, industry leaders\, investors\, entrepreneurs\, and translational research partners for a high-impact gathering designed to accelerate the pathway from bio-inspired discovery to real-world applications. Penn State is a leader in Bio-Inspired research\, with success translating research into commercial products. The focus of this event will be on biomaterials\, industrial biotech\, and advanced materials. Be among the first to learn what’s next in this exciting multi-disciplinary convening! \nThe Innovation Exchange is designed for industry technology scouts\, R&D teams\, early-stage investors\, and prospective entrepreneurs to learn about cutting edge\, advanced TRL inventions emerging from Penn State Research. \nHosted by Penn State’s Center for Living Multifunctional Material Systems\, Center for Biorenewables\, and the Office of Technology Transfer\n			\n				Click Here to Register
URL:https://lifesciencespa.org/event/penn-states-bio-inspired-innovation-exchange-from-nature-to-market/
LOCATION:Cira Center\, 2929 Arch Street\, Philadelphia\, 19104
CATEGORIES:Supported Events
END:VEVENT
END:VCALENDAR