BEGIN:VCALENDAR
VERSION:2.0
PRODID:-//Life Sciences PA - ECPv6.15.14//NONSGML v1.0//EN
CALSCALE:GREGORIAN
METHOD:PUBLISH
X-WR-CALNAME:Life Sciences PA
X-ORIGINAL-URL:https://lifesciencespa.org
X-WR-CALDESC:Events for Life Sciences PA
REFRESH-INTERVAL;VALUE=DURATION:PT1H
X-Robots-Tag:noindex
X-PUBLISHED-TTL:PT1H
BEGIN:VTIMEZONE
TZID:America/New_York
BEGIN:DAYLIGHT
TZOFFSETFROM:-0500
TZOFFSETTO:-0400
TZNAME:EDT
DTSTART:20250309T070000
END:DAYLIGHT
BEGIN:STANDARD
TZOFFSETFROM:-0400
TZOFFSETTO:-0500
TZNAME:EST
DTSTART:20251102T060000
END:STANDARD
BEGIN:DAYLIGHT
TZOFFSETFROM:-0500
TZOFFSETTO:-0400
TZNAME:EDT
DTSTART:20260308T070000
END:DAYLIGHT
BEGIN:STANDARD
TZOFFSETFROM:-0400
TZOFFSETTO:-0500
TZNAME:EST
DTSTART:20261101T060000
END:STANDARD
BEGIN:DAYLIGHT
TZOFFSETFROM:-0500
TZOFFSETTO:-0400
TZNAME:EDT
DTSTART:20270314T070000
END:DAYLIGHT
BEGIN:STANDARD
TZOFFSETFROM:-0400
TZOFFSETTO:-0500
TZNAME:EST
DTSTART:20271107T060000
END:STANDARD
END:VTIMEZONE
BEGIN:VEVENT
DTSTART;TZID=America/New_York:20260421T090000
DTEND;TZID=America/New_York:20260421T160000
DTSTAMP:20260421T055049
CREATED:20260327T222545Z
LAST-MODIFIED:20260327T222553Z
UID:10000271-1776762000-1776787200@lifesciencespa.org
SUMMARY:BioLabs Investor Days
DESCRIPTION:More than ever\, great life science startups need extensive investor connections to be successful. That’s why BioLabs joins forces with key local ecosystem partners — drawing on our international network of investor relationships — to bring the money and the talent together. \nWith a successful track record of events in Heidelberg\, Germany; Chicago\, IL; Princeton\, NJ; San Diego\, CA and Paris\, France\, Philadelphia’s now-annual Investor Day 2026 will bring together life science investors from across the country\, and startups from Philly’s groundbreaking ecosystem for a day of pre-selected lightning pitches\, poster sessions a lively panel of expert and invite-only networking.\n			\n				Click Here to Register
URL:https://lifesciencespa.org/event/biolabs-investor-days/
LOCATION:The Historic Curtis\, 601 Walnut Street\, Philadelphia\, Pennsylvania\, 19106
CATEGORIES:Supported Events
END:VEVENT
BEGIN:VEVENT
DTSTART;TZID=America/New_York:20260421T170000
DTEND;TZID=America/New_York:20260421T183000
DTSTAMP:20260421T055049
CREATED:20260416T190048Z
LAST-MODIFIED:20260416T190056Z
UID:10000287-1776790800-1776796200@lifesciencespa.org
SUMMARY:Sustainability in Healthcare and Lab Environments
DESCRIPTION:Celebrate Earth Month with us for a special talk on “Sustainability in Healthcare and Lab Environments” led by Beau Wangtrakuldee\, founder of the modern PPE brand AmorSui – designed to protect both you and the planet. Bring your sustainability questions\, enjoy light refreshments\, and connect with fellow attendees. Guests are welcome to bring a plus one. \n\n\n\n\nThe talk will be led by Ph.D chemist Beau Wangtrakuldee\, founder of the modern PPE brand\, AmorSui. \nAfter being severely injured in a lab\, Beau realized personal protective equipment needed to be better\, and she set out to create a new standard for PPE. AmorSui was founded on the simple idea to create fewer\, better products that protect people and the planet. \nBe part of the discussion\, try on AmorSui apparel\, and network with other attendees. \n\n\n			\n				Click Here to Register
URL:https://lifesciencespa.org/event/sustainability-in-healthcare-and-lab-environments/
LOCATION:Pennovation Center\, 3401 Grays Ferry Ave\, Philadelphia\, PA\, 19146
CATEGORIES:Supported Events
END:VEVENT
END:VCALENDAR