BEGIN:VCALENDAR
VERSION:2.0
PRODID:-//Life Sciences PA - ECPv6.15.14//NONSGML v1.0//EN
CALSCALE:GREGORIAN
METHOD:PUBLISH
X-ORIGINAL-URL:https://lifesciencespa.org
X-WR-CALDESC:Events for Life Sciences PA
REFRESH-INTERVAL;VALUE=DURATION:PT1H
X-Robots-Tag:noindex
X-PUBLISHED-TTL:PT1H
BEGIN:VTIMEZONE
TZID:America/New_York
BEGIN:DAYLIGHT
TZOFFSETFROM:-0500
TZOFFSETTO:-0400
TZNAME:EDT
DTSTART:20250309T070000
END:DAYLIGHT
BEGIN:STANDARD
TZOFFSETFROM:-0400
TZOFFSETTO:-0500
TZNAME:EST
DTSTART:20251102T060000
END:STANDARD
BEGIN:DAYLIGHT
TZOFFSETFROM:-0500
TZOFFSETTO:-0400
TZNAME:EDT
DTSTART:20260308T070000
END:DAYLIGHT
BEGIN:STANDARD
TZOFFSETFROM:-0400
TZOFFSETTO:-0500
TZNAME:EST
DTSTART:20261101T060000
END:STANDARD
BEGIN:DAYLIGHT
TZOFFSETFROM:-0500
TZOFFSETTO:-0400
TZNAME:EDT
DTSTART:20270314T070000
END:DAYLIGHT
BEGIN:STANDARD
TZOFFSETFROM:-0400
TZOFFSETTO:-0500
TZNAME:EST
DTSTART:20271107T060000
END:STANDARD
END:VTIMEZONE
BEGIN:VEVENT
DTSTART;VALUE=DATE:20260526
DTEND;VALUE=DATE:20260530
DTSTAMP:20260422T101625
CREATED:20260414T150634Z
LAST-MODIFIED:20260414T152342Z
UID:10000281-1779753600-1780099199@lifesciencespa.org
SUMMARY:2026 ABFO National Conference
DESCRIPTION:The ABFO National Conference is the leading event for Bioscience CFOs and senior finance professionals aspiring to be CFOs.  We have an outstanding lineup this year\, including keynote speakers Tom Whitehead (Co-Founder\, Emily Whitehead Foundation)\, Donovan McNabb\, Joe Quinlan (Bank of America Merrill Lynch)\, and Dr. Taryn Marie. Breakout sessions cover everything from AI implementation and treasury best practices to IPO readiness\, M&A\, and career development\, all designed for biotech finance leaders. \nWho should attend?\nCFOs: As the biotech landscape evolves at unprecedented speed\, CFOs find themselves at the center of transformation—not only managing capital\, but shaping strategic direction. At ABFO\, financial leaders will gain critical insights into emerging funding dynamics\, M&A priorities and regulatory shifts that directly influence long term financial planning. You will walk away with a clearer understanding of how to balance innovation investment with disciplined fiscal governance\, how to position your organization in a competitive capital market\, and how to leverage partnerships\, data\, and operational models that accelerate growth. Ultimately\, ABFO equips CFOs with the strategic foresight and practical tools needed to guide their companies through the next wave of scientific and market opportunity. \nAspiring CFOs: For future CFOs\, ABFO offers a front row seat to the forces shaping the industry—and a clear view of the skills and strategic mindset required to lead in it. Attendees will gain exposure to evolving capital raising models and the financial frameworks that drive biotech from early discovery through commercialization. They’ll see firsthand how seasoned CFOs navigate uncertainty\, build investor confidence\, and translate complex science into clear value narratives.\nMore importantly\, aspiring CFOs will leave with a deeper understanding of the competencies they must hone: strategic financial planning in a high risk\, high reward environment; cross functional collaboration with R&D and clinical teams; and the ability to anticipate regulatory\, market\, and operational pressures before they materialize. The conference serves not just as an educational experience\, but as a roadmap—illuminating the path toward becoming a financial leader who can guide a biotech organization through growth\, challenges\, and breakthrough moments.\n			\n				Click Here to Register
URL:https://lifesciencespa.org/event/2026-abfo-national-conference/
LOCATION:The Logan Hotel Philadelphia\, One Logan Square\, Philadelphia\, PA\, 19103
CATEGORIES:Supported Events
END:VEVENT
END:VCALENDAR