BEGIN:VCALENDAR
VERSION:2.0
PRODID:-//Life Sciences PA - ECPv6.15.14//NONSGML v1.0//EN
CALSCALE:GREGORIAN
METHOD:PUBLISH
X-ORIGINAL-URL:https://lifesciencespa.org
X-WR-CALDESC:Events for Life Sciences PA
REFRESH-INTERVAL;VALUE=DURATION:PT1H
X-Robots-Tag:noindex
X-PUBLISHED-TTL:PT1H
BEGIN:VTIMEZONE
TZID:America/New_York
BEGIN:DAYLIGHT
TZOFFSETFROM:-0500
TZOFFSETTO:-0400
TZNAME:EDT
DTSTART:20250309T070000
END:DAYLIGHT
BEGIN:STANDARD
TZOFFSETFROM:-0400
TZOFFSETTO:-0500
TZNAME:EST
DTSTART:20251102T060000
END:STANDARD
BEGIN:DAYLIGHT
TZOFFSETFROM:-0500
TZOFFSETTO:-0400
TZNAME:EDT
DTSTART:20260308T070000
END:DAYLIGHT
BEGIN:STANDARD
TZOFFSETFROM:-0400
TZOFFSETTO:-0500
TZNAME:EST
DTSTART:20261101T060000
END:STANDARD
BEGIN:DAYLIGHT
TZOFFSETFROM:-0500
TZOFFSETTO:-0400
TZNAME:EDT
DTSTART:20270314T070000
END:DAYLIGHT
BEGIN:STANDARD
TZOFFSETFROM:-0400
TZOFFSETTO:-0500
TZNAME:EST
DTSTART:20271107T060000
END:STANDARD
END:VTIMEZONE
BEGIN:VEVENT
DTSTART;TZID=America/New_York:20260425T090000
DTEND;TZID=America/New_York:20260425T180000
DTSTAMP:20260425T062826
CREATED:20260414T172201Z
LAST-MODIFIED:20260414T181609Z
UID:10000282-1777107600-1777140000@lifesciencespa.org
SUMMARY:Wharton Biotech Conference 2026
DESCRIPTION:Join us on April 25\, 2026 for the second annual Wharton Biotech Conference\, presented by Penn Biotech Group. \nJoin industry leaders\, forward-thinking professionals\, and driven students as we weave the Philadelphia biotech ecosystem together and dive into the challenges and breakthrough innovations defining the future of biotechnology.\n			\n				Click Here to Register
URL:https://lifesciencespa.org/event/wharton-biotech-conference-2026/
LOCATION:Jon M. Huntsman Hall\, 3730 Walnut Streer\, Philadelphia\, PA\, 19104
CATEGORIES:Supported Events
END:VEVENT
BEGIN:VEVENT
DTSTART;TZID=America/New_York:20260430T083000
DTEND;TZID=America/New_York:20260430T170000
DTSTAMP:20260425T062826
CREATED:20260413T200957Z
LAST-MODIFIED:20260415T151247Z
UID:10000279-1777537800-1777568400@lifesciencespa.org
SUMMARY:Discovery Continuum Seminar
DESCRIPTION:Drug discovery and development can sometimes feel like having a growing list of unprocessed samples with turnaround times that continue getting shorter. Join us for the Discovery continuum seminar to hear from experts and SCIEX for insights on the latest advances in mass spectrometry (MS) and capillary electrophoresis (CE) to expedite your pipeline when traditional methods just won’t cut it. \nLearn how to: \n\nAccelerate drug discovery using the Echo® MS+ system\nPerform qualitative and quantitative workflows using the ZenoTOF 8600 system\nExplore modalities such as oligonucleotides and mRNA\nLearn about critical insights CE can provide in drug development\n\nRSVP now to save your spot. We also hope that you’ll join us afterwards for food and refreshments to continue the conversation! \n			\n				Click Here to Register
URL:https://lifesciencespa.org/event/discovery-continuum-seminar/
LOCATION:Alloy Hotel\, 301 W Dekalb Pike\, King of Prussia\, PA\, 19406
CATEGORIES:Supported Events
END:VEVENT
BEGIN:VEVENT
DTSTART;TZID=America/New_York:20260430T160000
DTEND;TZID=America/New_York:20260430T190000
DTSTAMP:20260425T062826
CREATED:20251212T170845Z
LAST-MODIFIED:20251223T160721Z
UID:10000237-1777564800-1777575600@lifesciencespa.org
SUMMARY:Life Sciences PA Tailgate250
DESCRIPTION:Kickoff the America250 celebrations with the fifth annual Life Sciences PA Tailgate! \nJoin us April 30\, 2026 in the heart of Philadelphia and at life sciences hub\, The Lawn @uCity Square\, for food trucks\, games\, live music\, and networking with other life sciences professionals. \nRegister as an individual to enjoy the fun of the tailgate atmosphere without any setup\, or purchase a 10×10 space on the square and bring your team to decorate with tents\, chairs\, games and more to showcase your organization. \n			\n				Click Here to Register
URL:https://lifesciencespa.org/event/life-sciences-pa-tailgate-250/
LOCATION:The Lawn @uCity Square\, 3701 Filbert Street\, Philadelphia\, PA\, 19104
CATEGORIES:Life Sciences PA Events
ATTACH;FMTTYPE=image/png:https://lifesciencespa.org/wp-content/uploads/2025/12/Tailgate-250-Website-1.png
END:VEVENT
END:VCALENDAR